BEGIN:VCALENDAR
VERSION:2.0
PRODID:-//wp-events-plugin.com//7.0.5//EN
BEGIN:VEVENT
UID:25@jvpnh.org
DTSTART:20170428T000000Z
DTEND:20170428T000000Z
DTSTAMP:20170415T152951Z
URL:https://jvpnh.org/events/when-i-saw-you/
SUMMARY:When I Saw You
DESCRIPTION:[column size="two-third"]It is 1967. The world is alive with ch
 ange: brimming with reawakened energy\, new styles\, music and an infectio
 us sense of hope. In Jordan\, a different kind of change is underway as te
 ns of thousands of refugees pour across the border from Palestine. Having 
 been separated from his father in the chaos of war\, Tarek\, 11\, and his 
 mother Ghaydaa\, are amongst this latest wave of refugees. When I Saw You 
 is the story of people affected by the times around them\, in search of so
 mething more in their lives. A journey full of adventure\, love\, humor\, 
 and the desire to be free. A story of the human spirit that knows no borde
 rs. [/column][column size="one-third" last="true"][/column]
CATEGORIES:From the Jordan to the Sea: Israel-Palestine in Film
LOCATION:Westbrook Library\, 61 Goodspeed Dr\, Westbrook\, CT\, 06498\, Uni
 ted States
GEO:41.2852512;-72.4429601
X-APPLE-STRUCTURED-LOCATION;VALUE=URI;X-ADDRESS=61 Goodspeed Dr\, Westbrook
 \, CT\, 06498\, United States;X-APPLE-RADIUS=100;X-TITLE=Westbrook Library
 :geo:41.2852512,-72.4429601
END:VEVENT
END:VCALENDAR