BEGIN:VCALENDAR
VERSION:2.0
PRODID:-//wp-events-plugin.com//7.0.5//EN
BEGIN:VEVENT
UID:4@jvpnh.org
DTSTART:20160305T003000Z
DTEND:20160305T003000Z
DTSTAMP:20160213T025112Z
URL:https://jvpnh.org/events/the-wanted-18-2/
SUMMARY:The Wanted 18
DESCRIPTION:The Wanted 18 is a 2014 animated\, award-winning documentary\,d
 irected by Canadian filmmaker Paul Cowan and Palestinian visual artist/dir
 ector Amer Shomali. \n[column size="two-third"]In the 1980s\, as part of 
 a Palestinian boycott of Israeli taxation and commodities\, residents of 
 Beit Sahour (West Bank)\, in a quest for greater self-sufficiency\, forme
 d a collective and stopped purchasing milk from Israeli companies. They p
 urchased cows from a sympathetic kibbutznik and set about teaching themse
 lves how to care for the animals and milk them. The farm was a success\,
  with strong local demand for “Intifada milk.” However\, the herd was
  declared a “threat to the national security of the state of Israel” 
 and Israel sought to impound the cows\, forcing Palestinians to devise cr
 eative ways to keep them hidden.[/column][column size="one-third" last="tr
 ue"][/column]\n
ATTACH;FMTTYPE=image/jpeg:https://i0.wp.com/jvpnh.org/wp-content/uploads/2
 016/02/wanted18.jpeg?fit=248%2C372&ssl=1
CATEGORIES:From the Jordan to the Sea: Israel-Palestine in Film
LOCATION:Whitney Center Cultural Arts Center\, 200 Leeder Hill Drive\, Hamd
 en\, CT\, 06517\, United States
GEO:41.349555;-72.92201299999999
X-APPLE-STRUCTURED-LOCATION;VALUE=URI;X-ADDRESS=200 Leeder Hill Drive\, Ham
 den\, CT\, 06517\, United States;X-APPLE-RADIUS=100;X-TITLE=Whitney Center
  Cultural Arts Center:geo:41.349555,-72.92201299999999
END:VEVENT
END:VCALENDAR