BEGIN:VCALENDAR
VERSION:2.0
PRODID:-//wp-events-plugin.com//7.0.5//EN
BEGIN:VEVENT
UID:7@jvpnh.org
DTSTART:20160220T003000Z
DTEND:20160220T003000Z
DTSTAMP:20160213T043540Z
URL:https://jvpnh.org/events/salt-of-this-sea-2/
SUMMARY:Salt of this Sea
DESCRIPTION:\n\n[column size="two-third"]Palestinian film (2008) directed b
 y Annemarie Jacir and an Official Selection of the Cannes International Fi
 lm Festival. The film stars Palestinian-American poet Suheir Hammad as Sor
 aya\, an American-born Palestinian woman who heads to Israel and Palestine
  on a quest to reclaim her family’s home and money that were taken durin
 g the 1948 Arab-Israeli War. The film conveys a portrait of life in Occupi
 ed Palestine on many levels: physical\, spiritual and emotional.[/column][
 column size="one-third" last="true"][/column]\n\n
ATTACH;FMTTYPE=image/jpeg:https://i0.wp.com/jvpnh.org/wp-content/uploads/2
 016/02/salt-of-this-sea-poster.jpg?fit=315%2C445&ssl=1
CATEGORIES:From the Jordan to the Sea: Israel-Palestine in Film
LOCATION:Whitney Center Cultural Arts Center\, 200 Leeder Hill Drive\, Hamd
 en\, CT\, 06517\, United States
GEO:41.349555;-72.92201299999999
X-APPLE-STRUCTURED-LOCATION;VALUE=URI;X-ADDRESS=200 Leeder Hill Drive\, Ham
 den\, CT\, 06517\, United States;X-APPLE-RADIUS=100;X-TITLE=Whitney Center
  Cultural Arts Center:geo:41.349555,-72.92201299999999
END:VEVENT
END:VCALENDAR