BEGIN:VCALENDAR
VERSION:2.0
PRODID:-//wp-events-plugin.com//7.0.5//EN
BEGIN:VEVENT
UID:6@jvpnh.org
DTSTART:20160402T003000Z
DTEND:20160402T003000Z
DTSTAMP:20160218T153452Z
URL:https://jvpnh.org/events/roadmap-to-apartheid-2/
SUMMARY:Roadmap to Apartheid
DESCRIPTION:Award winning documentary\, narrated by Alice Walker and produc
 ed in 2012 by filmmakers Ana Nogueira\, a white South African\, and Eron D
 avidson\, a Jewish American-Israeli.This film is as much an historical acc
 ount of the rise and fall of apartheid in South Africa as it is a film abo
 ut why many Palestinians feel they are living in an apartheid system today
 . The audience will gain a deeper understanding of what life is like for P
 alestinians in the West Bank\, Gaza Strip and inside Israel with the help 
 of respected analysts on the subject.
ATTACH;FMTTYPE=image/jpeg:https://i0.wp.com/jvpnh.org/wp-content/uploads/2
 016/01/roadmap.png?fit=960%2C312&ssl=1
CATEGORIES:From the Jordan to the Sea: Israel-Palestine in Film,Roadmap to
 Apartheid screenings
LOCATION:Whitney Center Cultural Arts Center\, 200 Leeder Hill Drive\, Hamd
 en\, CT\, 06517\, United States
GEO:41.349555;-72.92201299999999
X-APPLE-STRUCTURED-LOCATION;VALUE=URI;X-ADDRESS=200 Leeder Hill Drive\, Ham
 den\, CT\, 06517\, United States;X-APPLE-RADIUS=100;X-TITLE=Whitney Center
  Cultural Arts Center:geo:41.349555,-72.92201299999999
END:VEVENT
END:VCALENDAR