BEGIN:VCALENDAR
VERSION:2.0
PRODID:-//wp-events-plugin.com//7.0.5//EN
BEGIN:VEVENT
UID:40@jvpnh.org
DTSTART:20181021T190000Z
DTEND:20181021T210000Z
DTSTAMP:20181013T211946Z
URL:https://jvpnh.org/events/rachels-children-old-lyme/
SUMMARY:Rachel's Children: Old Lyme
DESCRIPTION:Hope to see you Oct 21 in Old Lyme\, CT for 3 great speakers am
 plifying the courageous work being done by human rights organizations as t
 hey respond to the crisis faced by Palestinian children and young adults. 
 #NoWayToTreatAChild\n\n\nMore info here... 
CATEGORIES:Speakers and Forums
LOCATION:First Congregational  Church of Old Lyme\, Lyme St. &amp\; Ferry R
 d.\, Old Lyme\, CT\, 06371\, United States
GEO:41.31320119999999;-72.33116000000001
X-APPLE-STRUCTURED-LOCATION;VALUE=URI;X-ADDRESS=Lyme St. & Ferry Rd.\, Old 
 Lyme\, CT\, 06371\, United States;X-APPLE-RADIUS=100;X-TITLE=First Congreg
 ational  Church of Old Lyme:geo:41.31320119999999,-72.33116000000001
END:VEVENT
END:VCALENDAR