BEGIN:VCALENDAR
VERSION:2.0
PRODID:-//wp-events-plugin.com//7.0.5//EN
BEGIN:VEVENT
UID:39@jvpnh.org
DTSTART:20181019T230000Z
DTEND:20181020T010000Z
DTSTAMP:20181013T193356Z
URL:https://jvpnh.org/events/rachels-children-madison/
SUMMARY:Rachel's Children: Madison
DESCRIPTION:Hope to see you Oct 19 in Madison\, CT for 3 great speakers amp
 lifying the courageous work being done by human rights organizations as th
 ey respond to the crisis faced by Palestinian children and young adults. #
 NoWayToTreatAChild\n\n&nbsp\;\n\n
ATTACH;FMTTYPE=image/jpeg:https://i0.wp.com/jvpnh.org/wp-content/uploads/2
 018/10/TOL18-Madison-Flyer-Small.jpg?fit=1275%2C1650&ssl=1
CATEGORIES:Speakers and Forums
LOCATION:Shoreline Unitarian Universalist Society\, 297 Boston Post Rd.\, M
 adison\, CT\, 06443\, United States
GEO:41.2784384;-72.62391769999999
X-APPLE-STRUCTURED-LOCATION;VALUE=URI;X-ADDRESS=297 Boston Post Rd.\, Madis
 on\, CT\, 06443\, United States;X-APPLE-RADIUS=100;X-TITLE=Shoreline Unita
 rian Universalist Society:geo:41.2784384,-72.62391769999999
END:VEVENT
END:VCALENDAR