BEGIN:VCALENDAR
VERSION:2.0
PRODID:-//wp-events-plugin.com//7.0.5//EN
BEGIN:VEVENT
UID:38@jvpnh.org
DTSTART:20181018T230000Z
DTEND:20181019T010000Z
DTSTAMP:20181013T192743Z
URL:https://jvpnh.org/events/rachels-children-hartford/
SUMMARY:Rachel's Children: Hartford
DESCRIPTION:Hope to see you Oct 18 in Hartford\, CT for 3 great speakers am
 plifying the courageous work being done by human rights organizations as t
 hey respond to the crisis faced by Palestinian children and young adults. 
 #NoWayToTreatAChild\n\n\n\n&nbsp\;
ATTACH;FMTTYPE=image/jpeg:https://i0.wp.com/jvpnh.org/wp-content/uploads/2
 018/10/TOL18-Madison-Flyer-Small.jpg?fit=1275%2C1650&ssl=1
CATEGORIES:Speakers and Forums
LOCATION:UConn Law School (Starr Hall)\, 110 Sherman Street\, Hartford\, CT
 \, 06105\, United States
GEO:41.7703977;-72.7070443
X-APPLE-STRUCTURED-LOCATION;VALUE=URI;X-ADDRESS=110 Sherman Street\, Hartfo
 rd\, CT\, 06105\, United States;X-APPLE-RADIUS=100;X-TITLE=UConn Law Schoo
 l (Starr Hall):geo:41.7703977,-72.7070443
END:VEVENT
END:VCALENDAR