BEGIN:VCALENDAR
VERSION:2.0
PRODID:-//wp-events-plugin.com//7.0.5//EN
BEGIN:VEVENT
UID:42@jvpnh.org
DTSTART:20180805T210000Z
DTEND:20180806T010000Z
DTSTAMP:20181013T223818Z
URL:https://jvpnh.org/events/potluck-picnic/
SUMMARY:Potluck Picnic
DESCRIPTION:
CATEGORIES:Socializing and Celebrating
LOCATION:Jacobs Beach\, 140 Seaside Ave\, Guilford\, CT\, United States
GEO:41.268984;-72.66955999999999
X-APPLE-STRUCTURED-LOCATION;VALUE=URI;X-ADDRESS=140 Seaside Ave\, Guilford\
 , CT\, United States;X-APPLE-RADIUS=100;X-TITLE=Jacobs Beach:geo:41.268984
 ,-72.66955999999999
END:VEVENT
END:VCALENDAR