BEGIN:VCALENDAR
VERSION:2.0
PRODID:-//wp-events-plugin.com//7.0.5//EN
BEGIN:VEVENT
UID:11@jvpnh.org
DTSTART:20160420T213000Z
DTEND:20160420T233000Z
DTSTAMP:20160411T181508Z
URL:https://jvpnh.org/events/noura-erakat-from-occupation-to-warfare-the-n
 ew-phase-of-palestinian-israel-relations/
SUMMARY:Noura Erakat: From Occupation to Warfare: The New Phase of Palestin
 ian-Israel Relations
DESCRIPTION:Noura Erakat is an Assistant Professor at George Mason Universi
 ty where she teaches in the legal studies\, international studies\, and hu
 man rights/social justice studies concentrations. Her scholarly interests 
 include humanitarian law\, human rights law\, refugee law\, and national s
 ecurity law. She earned her BA and JD from Berkeley Law School and her LLM
  in National Security from the Georgetown University Law Center. She is a 
 Co-Founder/Editor of Jadaliyya e-zine. Prior to beginning her appointment 
 at GMU\, Noura was a Freedman Teaching Fellow at Temple Law School and has
  taught International Human Rights Law and the Middle East at Georgetown U
 niversity since 2009.
CATEGORIES:Speakers and Forums
LOCATION:Luce Hall\, Yale University\, 34 Hillhouse Ave\, New Haven\, CT\, 
 06511\, United States
GEO:41.314617;-72.92435949999998
X-APPLE-STRUCTURED-LOCATION;VALUE=URI;X-ADDRESS=34 Hillhouse Ave\, New Have
 n\, CT\, 06511\, United States;X-APPLE-RADIUS=100;X-TITLE=Luce Hall\, Yale
  University:geo:41.314617,-72.92435949999998
END:VEVENT
END:VCALENDAR