BEGIN:VCALENDAR
VERSION:2.0
PRODID:-//wp-events-plugin.com//7.0.5//EN
BEGIN:VEVENT
UID:10@jvpnh.org
DTSTART:20160315T000000Z
DTEND:20160315T000000Z
DTSTAMP:20160216T220003Z
URL:https://jvpnh.org/events/my-name-is-rachel-corrie/
SUMMARY:My Name is Rachel Corrie
DESCRIPTION:Event is in Davidson Hall Room #123\n\nThe one person show My N
 ame is Rachel Corrie\, composed from Rachel's emails and journal entries b
 y the late Alan Rickman and editor in chief of The Guardian\, Katherine Vi
 ner\, chronicles the life of the 23 year old American Peace Activist who t
 raveled to Gaza in 2003 with the International Solidarity Movement to defe
 nd Palestinian homes from being demolished. It was there\, on March 16th\,
  2003 that she was crushed to death by an Israeli bulldozer while defendin
 g a Palestinian's home from being demolished.\n\nOver the course of the pl
 ay\, Rachel matures from an insightful young girl listing the millions of 
 things she wants to be when she grows up\, to a scattered adolescent immer
 sed in the manic search for self while battling boys and an over-involved 
 mom\, to a young woman determined to pursue peace and justice in a place s
 he's never been for people she's never met\, constantly questioning hersel
 f\, her country and the world around her\, and what it is to be human.\n\n
 Made possible with the sponsorship of the CCSU chapter of Students for Jus
 tice in Palestine and the CCSU Theatre Department.
ATTACH;FMTTYPE=image/jpeg:https://i0.wp.com/jvpnh.org/wp-content/uploads/2
 016/02/ashmalloy.jpg?fit=950%2C629&ssl=1
CATEGORIES:Performance
LOCATION:Central Connecticut State University\, 1615 Stanley St\, New Brita
 in\, CT\, 06053\, United States
GEO:41.6906682;-72.76654959999996
X-APPLE-STRUCTURED-LOCATION;VALUE=URI;X-ADDRESS=1615 Stanley St\, New Brita
 in\, CT\, 06053\, United States;X-APPLE-RADIUS=100;X-TITLE=Central Connect
 icut State University:geo:41.6906682,-72.76654959999996
END:VEVENT
END:VCALENDAR