BEGIN:VCALENDAR
VERSION:2.0
PRODID:-//wp-events-plugin.com//7.0.5//EN
BEGIN:VEVENT
UID:33@jvpnh.org
DTSTART:20180617T210000Z
DTEND:20180617T220000Z
DTSTAMP:20180608T055228Z
URL:https://jvpnh.org/events/mazin-qumsiyeh/
SUMMARY:Mazin Qumsiyeh
DESCRIPTION:Dr. Mazin Qumsiyeh\, Palestinian scientist\, author\, and the d
 irector of the Palestine Museum of Natural History in Bethlehem\, West Ban
 k will speak about popular resistance in Palestine.
ATTACH;FMTTYPE=image/jpeg:https://i0.wp.com/jvpnh.org/wp-content/uploads/2
 018/06/mazin.jpg?fit=1429%2C462&ssl=1
CATEGORIES:Speakers and Forums
LOCATION:Palestine Museum\, 1764 Litchfield Turnpike\, Woodbridge\, CT\, Un
 ited States
GEO:41.34598099999999;-72.982391
X-APPLE-STRUCTURED-LOCATION;VALUE=URI;X-ADDRESS=1764 Litchfield Turnpike\, 
 Woodbridge\, CT\, United States;X-APPLE-RADIUS=100;X-TITLE=Palestine Museu
 m:geo:41.34598099999999,-72.982391
END:VEVENT
END:VCALENDAR