BEGIN:VCALENDAR
VERSION:2.0
PRODID:-//wp-events-plugin.com//7.0.5//EN
BEGIN:VEVENT
UID:35@jvpnh.org
DTSTART:20180624T170000Z
DTEND:20180624T180000Z
DTSTAMP:20180622T222124Z
URL:https://jvpnh.org/events/june-2018-vigil/
SUMMARY:June 2018 Vigil
DESCRIPTION:JVP New Haven joins the Resist This Endless War vigil\, focusin
 g this week on #KeepFamiliesTogether. See Keep Familes Together for deta
 ils.
CATEGORIES:actions
LOCATION:Broadway Triangle\, 304 Elm St\, New Haven\, CT\, United States
GEO:41.3110272;-72.93144339999998
X-APPLE-STRUCTURED-LOCATION;VALUE=URI;X-ADDRESS=304 Elm St\, New Haven\, CT
 \, United States;X-APPLE-RADIUS=100;X-TITLE=Broadway Triangle:geo:41.31102
 72,-72.93144339999998
END:VEVENT
END:VCALENDAR