BEGIN:VCALENDAR
VERSION:2.0
PRODID:-//wp-events-plugin.com//7.0.5//EN
BEGIN:VEVENT
UID:8@jvpnh.org
DTSTART:20160302T010000Z
DTEND:20160302T010000Z
DTSTAMP:20160215T204946Z
URL:https://jvpnh.org/events/ilan-pappe-why-is-palestine-still-the-issue-i
 n-2016/
SUMMARY:Ilan Pappé: Why is Palestine Still the Issue in 2016?
DESCRIPTION:Join SJP and Dr.Ilan Pappé\, a notable Israeli historian\, to 
 learn more about why the Israel-Palestine conflict continues\, and what WE
  can do to change the situation. 
ATTACH;FMTTYPE=image/jpeg:https://i0.wp.com/jvpnh.org/wp-content/uploads/2
 016/02/ethnic-cleansing.jpg?fit=325%2C499&ssl=1
CATEGORIES:Speakers and Forums
LOCATION:Yale University Linsly-Chittenden Hall – Room 102\, 63 High St\,
  New Haven\, CT\, United States
GEO:41.3085882;-72.92951949999997
X-APPLE-STRUCTURED-LOCATION;VALUE=URI;X-ADDRESS=63 High St\, New Haven\, CT
 \, United States;X-APPLE-RADIUS=100;X-TITLE=Yale University Linsly-Chitten
 den Hall – Room 102:geo:41.3085882,-72.92951949999997
END:VEVENT
END:VCALENDAR