BEGIN:VCALENDAR
VERSION:2.0
PRODID:-//wp-events-plugin.com//7.0.5//EN
BEGIN:VEVENT
UID:9@jvpnh.org
DTSTART:20160303T003000Z
DTEND:20160305T003000Z
DTSTAMP:20160215T205231Z
URL:https://jvpnh.org/events/ilan-pappe-why-is-palestine-still-the-issue-i
 n-2016-2/
SUMMARY:Ilan Pappé: Why is Palestine Still the Issue in 2016?
DESCRIPTION:An evening with Professor Ilan Pappé of the University of Exet
 er (UK) and author of many authoritative texts on the Israel/Palestine sit
 uation\, including The Ethnic Cleansing of Palestine and The Forgotten Pal
 estinians: A History of Palestinians in Israel
ATTACH;FMTTYPE=image/jpeg:https://i0.wp.com/jvpnh.org/wp-content/uploads/2
 016/02/ethnic-cleansing.jpg?fit=325%2C499&ssl=1
CATEGORIES:Speakers and Forums
LOCATION:Central Connecticut State University Vance Academic Center – Roo
 m 105\, 1615 Stanley Street\, New Britain\, CT\, United States
GEO:41.6906682;-72.76654959999996
X-APPLE-STRUCTURED-LOCATION;VALUE=URI;X-ADDRESS=1615 Stanley Street\, New B
 ritain\, CT\, United States;X-APPLE-RADIUS=100;X-TITLE=Central Connecticut
  State University Vance Academic Center – Room 105:geo:41.6906682,-72.76
 654959999996
END:VEVENT
END:VCALENDAR