BEGIN:VCALENDAR
VERSION:2.0
PRODID:-//wp-events-plugin.com//7.0.5//EN
BEGIN:VEVENT
UID:12@jvpnh.org
DTSTART:20160518T000000Z
DTEND:20160518T020000Z
DTSTAMP:20160516T031148Z
URL:https://jvpnh.org/events/how-bilingual-education-can-create-a-more-sha
 red-society-between-jews-arabs-in-israel/
SUMMARY:How Bilingual Education Can Create  a More Shared Society Between J
 ews & Arabs in Israel
DESCRIPTION:Shoreline Unitarian  Universalist Society and Tree of Life Edu
 cational Fund present\nA conversation with\nAdv. Afnan Abu Taha\, \nExecu
 tive Director and\nOrit Feiberg\, \nPrincipal of Hagar School\nSee detail
 s here.
ATTACH;FMTTYPE=image/jpeg:https://i0.wp.com/jvpnh.org/wp-content/uploads/2
 016/05/hagar_school.jpg?fit=328%2C227&ssl=1
CATEGORIES:Speakers and Forums
LOCATION:Shoreline Unitarian  Universalist Society\, 297 Boston Post Road\,
  Madison\, CT\, 06443\, United States
GEO:41.278452;-72.62392349999999
X-APPLE-STRUCTURED-LOCATION;VALUE=URI;X-ADDRESS=297 Boston Post Road\, Madi
 son\, CT\, 06443\, United States;X-APPLE-RADIUS=100;X-TITLE=Shoreline Unit
 arian  Universalist Society:geo:41.278452,-72.62392349999999
END:VEVENT
END:VCALENDAR