BEGIN:VCALENDAR
VERSION:2.0
PRODID:-//wp-events-plugin.com//7.0.5//EN
BEGIN:VEVENT
UID:43@jvpnh.org
DTSTART:20181209T180000Z
DTEND:20181209T200000Z
DTSTAMP:20181126T195436Z
URL:https://jvpnh.org/events/hanukkah-5779/
SUMMARY:Hanukkah 5779
DESCRIPTION:\n\n\nHosted by Mending Minyan NHV\, and Jewish Voice for Peace
  New Haven.\nAll are welcome. Invite your friends &amp\; family! Join us 
 in deeply rooted joy based ritual and community celebration at the culmina
 tion of Hanukkah to reject all forms of white supremacy and rekindle our c
 ommitment to justice.\n\nFrom December 2-11\, the Anti-Defamation League w
 ill be facilitating an exchange program between US and Israeli police\, IC
 E\, border agents and soldiers — the very same dates as Hannukah.\n\nWit
 h racist nationalism on the rise in both places\, we seek to #EndTheDeadly
 Exchange\, a convergence between the US and Israeli governments where poli
 ce from the US are trained by Israeli military and police\, further entren
 ching the militarization of our police forces. In its place\, we must keep
  building together what brings true safety: interconnected ritual that cen
 ters people’s movements for justice\, equality\, liberation.\n\nSo invit
 e your friends and family and join us in celebrating Hanukkah the people
 ’s way: gathering in the streets with loved ones being led in collaborat
 ive ritual of song and story as we light our own menorah of justice here i
 n New Haven. Together\, we will recommit ourselves to working to dismantle
  all forms of white supremacy\, including anti-Black racism\, anti-Palesti
 nian racism\, anti-refugee racism\, anti-Muslim racism\, antisemitism\, ab
 leism\, transphobia and xenophobia.\n\nWe are at a crossroads. Down one pa
 th\, we are told\, lies safety for an ever-shrinking few -- through white 
 nationalism in the US and ethno-nationalism in Israel/Palestine\, with mor
 e walls\, guns and and targeted communities.\n\nDown the other path\, our 
 movement ancestors call us: Towards safety built through solidarity. Towar
 ds collective liberation. None of us are free until all of us are free.\n\
 n
CATEGORIES:actions
LOCATION:Broadway Triangle\, 304 Elm St\, New Haven\, CT\, United States
GEO:41.3110272;-72.93144339999998
X-APPLE-STRUCTURED-LOCATION;VALUE=URI;X-ADDRESS=304 Elm St\, New Haven\, CT
 \, United States;X-APPLE-RADIUS=100;X-TITLE=Broadway Triangle:geo:41.31102
 72,-72.93144339999998
END:VEVENT
END:VCALENDAR