BEGIN:VCALENDAR
VERSION:2.0
PRODID:-//wp-events-plugin.com//7.0.5//EN
BEGIN:VEVENT
UID:32@jvpnh.org
DTSTART:20180623T190000Z
DTEND:20180623T210000Z
DTSTAMP:20180901T145218Z
URL:https://jvpnh.org/events/gaza-girls/
SUMMARY:Gaza Girls
DESCRIPTION:Gaza Girls is a new photo book that has just been published. It
  reveals how girls and young women grow up and live in the Gaza Strip.\n\n
 Author Monique Jaques will be describing her book and her experiences in G
 aza.\n\nSaturday\, June 23\, 2-4PM\, Mitchell Library\, 37 Harrison St.\, 
 New Haven. Free\, open to the public.
ATTACH;FMTTYPE=image/jpeg:https://i0.wp.com/jvpnh.org/wp-content/uploads/2
 018/06/GazaGirlsFlierMJ-v.3.jpg?fit=1275%2C1650&ssl=1
CATEGORIES:Speakers and Forums
LOCATION:Mitchell Library\, 37 Harrison St.\, New Haven\, CT\, 06515\, Unit
 ed States
GEO:41.327803;-72.96188130000002
X-APPLE-STRUCTURED-LOCATION;VALUE=URI;X-ADDRESS=37 Harrison St.\, New Haven
 \, CT\, 06515\, United States;X-APPLE-RADIUS=100;X-TITLE=Mitchell Library:
 geo:41.327803,-72.96188130000002
END:VEVENT
END:VCALENDAR