BEGIN:VCALENDAR
VERSION:2.0
PRODID:-//wp-events-plugin.com//7.0.5//EN
BEGIN:VEVENT
UID:22@jvpnh.org
DTSTART:20161221T223000Z
DTEND:20161221T233000Z
DTSTAMP:20161205T192157Z
URL:https://jvpnh.org/events/chanukah-solstice-action-against-islamophobia
 -and-racism/
SUMMARY:Chanukah / Solstice action against Islamophobia and Racism
DESCRIPTION:Join us for a national Chanukah / Solstice action at this criti
 cal time to stand against  Islamophobia and racism and rekindle our commit
 ment to justice\n
ATTACH;FMTTYPE=image/jpeg:https://i0.wp.com/jvpnh.org/wp-content/uploads/2
 016/11/hanukkah2015.jpg?fit=1440%2C562&ssl=1
CATEGORIES:actions
LOCATION:New Haven Green at College and Chapel\, College and Chapel\, New H
 aven\, United States
GEO:41.3072866;-72.92868770000001
X-APPLE-STRUCTURED-LOCATION;VALUE=URI;X-ADDRESS=College and Chapel\, New Ha
 ven\, United States;X-APPLE-RADIUS=100;X-TITLE=New Haven Green at College 
 and Chapel:geo:41.3072866,-72.92868770000001
END:VEVENT
END:VCALENDAR