BEGIN:VCALENDAR
VERSION:2.0
PRODID:-//wp-events-plugin.com//7.0.5//EN
BEGIN:VEVENT
UID:21@jvpnh.org
DTSTART:20161112T003000Z
DTEND:20161112T020000Z
DTSTAMP:20161012T021951Z
URL:https://jvpnh.org/events/ben-ehrenreich-the-way-to-the-spring-life-and
 -death-in-palestine-book-talk/
SUMMARY:Ben Ehrenreich: The Way to the Spring\, Life and Death in Palestine
 : Book Talk
DESCRIPTION:Over the past three years\, American writer Ben Ehrenreich has 
 been traveling to and living in the West Bank\, staying with Palestinian f
 amilies in its largest cities and its smallest villages. Along the way he 
 has written major stories for American outlets\, including a remarkable Ne
 w York Times Magazine cover story.
ATTACH;FMTTYPE=image/jpeg:https://i0.wp.com/jvpnh.org/wp-content/uploads/2
 016/10/book.jpg?fit=296%2C450&ssl=1
CATEGORIES:Speakers and Forums
LOCATION:First Presbyterian Church\, 704 Whitney Ave.\, New Haven\, CT\, 06
 511\, United States
GEO:41.3298159;-72.91470300000003
X-APPLE-STRUCTURED-LOCATION;VALUE=URI;X-ADDRESS=704 Whitney Ave.\, New Have
 n\, CT\, 06511\, United States;X-APPLE-RADIUS=100;X-TITLE=First Presbyteri
 an Church:geo:41.3298159,-72.91470300000003
END:VEVENT
END:VCALENDAR