BEGIN:VCALENDAR
VERSION:2.0
PRODID:-//wp-events-plugin.com//7.0.5//EN
BEGIN:VEVENT
UID:41@jvpnh.org
DTSTART:20180819T190000Z
DTEND:20180819T210000Z
DTSTAMP:20181013T223216Z
URL:https://jvpnh.org/events/aida-touma-sliman/
SUMMARY:Aida Touma-Sliman
DESCRIPTION:
ATTACH;FMTTYPE=image/jpeg:https://i0.wp.com/jvpnh.org/wp-content/uploads/2
 018/10/Aida-flier-New-Haven-2018.7.31.jpg?fit=818%2C1056&ssl=1
CATEGORIES:Speakers and Forums
LOCATION:Palestine Museum\, 1764 Litchfield Turnpike\, Woodbridge\, CT\, Un
 ited States
GEO:41.34598099999999;-72.982391
X-APPLE-STRUCTURED-LOCATION;VALUE=URI;X-ADDRESS=1764 Litchfield Turnpike\, 
 Woodbridge\, CT\, United States;X-APPLE-RADIUS=100;X-TITLE=Palestine Museu
 m:geo:41.34598099999999,-72.982391
END:VEVENT
END:VCALENDAR