BEGIN:VCALENDAR
VERSION:2.0
PRODID:-//wp-events-plugin.com//7.0.5//EN
BEGIN:VEVENT
UID:31@jvpnh.org
DTSTART:20171212T223000Z
DTEND:20171212T233000Z
DTSTAMP:20171205T164357Z
URL:https://jvpnh.org/events/5778-hanukkah-vigil-against-islamophobia-and-
 racism/
SUMMARY:5778 Hanukkah Vigil Against Islamophobia and Racism
DESCRIPTION:Jewish Voice For Peace – New Haven invites you to stand with 
 us against Islamophobia and racism reaffirming our commitment to build a s
 ociety rooted in love and dignity for all people and all communities.\n\n\
 n\nJoin us for our 3rd annual Chanukah vigil\nStanding against Islamophobi
 a and racism\n\nWhere: College and Chapel Streets\, New Haven\nWhen: Tuesd
 ay.  December 12 at 5:30 PM\n\n 	We will not be silent about anti-Muslim 
 and racist hate speech and hate crimes. We fight anti-Muslim profiling and
  racial profiling in all its forms.\n 	We condemn state surveillance of th
 e Muslim\, Arab\, and South Asian communities\n 	We challenge through our 
 words and actions institutionalized racism and state-sanctioned anti-Black
  violence.\n 	We protest the use of Islamophobia and anti-Arab racism to j
 ustify Israel’s repressive policies against Palestinians\n 	We honor and
  support indigenous rights and the resistance led by the Standing Rock Sio
 ux tribe to protect their land and water. We support New Haven Stands With
  Standing Rock demanding the city remove its funds from Wells Fargo.\n 	We
  fully stand with the Vision for Black Lives platform. We call for an end 
 to racist policing. #SayHerName #BlackLivesMatter #JusticeForJayson\n 	We 
 stand against U.S. policies driven by the “War on Terror” that demoniz
 e Islam and devalue\, target\, and kill Muslims.\n 	We welcome Syrian refu
 gees and stand strong for immigrants’ and refugee rights. We support the
  rights of undocumented immigrants and DACA recipients.\n\nCo-Sponsored by
  Muslim Coalition of Connecticut and The Islamic Association of Greater Ha
 rtford\n\n
ATTACH;FMTTYPE=image/jpeg:https://i0.wp.com/jvpnh.org/wp-content/uploads/2
 017/12/vigil-header.png?fit=901%2C352&ssl=1
CATEGORIES:actions
LOCATION:New Haven Green at College and Chapel\, New Haven Green\, New Have
 n\, United States
GEO:41.308332;-72.93295160000002
X-APPLE-STRUCTURED-LOCATION;VALUE=URI;X-ADDRESS=New Haven Green\, New Haven
 \, United States;X-APPLE-RADIUS=100;X-TITLE=New Haven Green at College and
  Chapel:geo:41.308332,-72.93295160000002
END:VEVENT
END:VCALENDAR